BEGIN:VCALENDAR
VERSION:2.0
PRODID:-//hacksw/handcal//NONSGML v1.0//EN
BEGIN:VEVENT
SUMMARY:Tournoi de Bonneval
UID:d32d309f-80ff-4f96-99d0-37c5b8a9dadf
DTSTART:20260530T070000Z
DTEND:20260530T143000Z
LOCATION:Localisation Dojo Francois Crinis, 112 rue de Chartres 28800 Bonneval
CATEGORIES:Sportif
STATUS:
DESCRIPTION:<p><span style="font-size:22px;">9 h 00 =>
 Benjamin(e)s</span></p>
 
 <p><span style="font-size:22px;">10 h 00 =>
 Poussin(e)s</span></p>
 
 <p><span style="font-size:22px;">13 h 30 =>
 Mini-Poussin(e)s</span></p>
URL;VALUE=URI:https://www.dojobrezollien.fr/evenements/2026/05/30/tournoi-de-bonneval-2443697
END:VEVENT
END:VCALENDAR
